BEGIN:VCALENDAR
VERSION:2.0
PRODID:-//Down Syndrome Cork - ECPv4.6.1//NONSGML v1.0//EN
CALSCALE:GREGORIAN
METHOD:PUBLISH
X-WR-CALNAME:Down Syndrome Cork
X-ORIGINAL-URL:http://downsyndromecork.ie
X-WR-CALDESC:Events for Down Syndrome Cork
BEGIN:VEVENT
DTSTART;TZID=UTC+0:20170930T133000
DTEND;TZID=UTC+0:20170930T143000
DTSTAMP:20171024T024140
CREATED:20171013T120039Z
LAST-MODIFIED:20171013T120039Z
UID:1352-1506778200-1506781800@downsyndromecork.ie
SUMMARY:Dance for Fun\, Centre Stage School\, Mallow
DESCRIPTION:\n\n‘Dance for Fun’ programme is to instil a love of dance and movement in children and young adults with Down Syndrom. Students will work on physical fitness\, rhythm\, flexibility and develop skills such as spacial awareness and general co-ordination. Each class will be set to energetic and age appropriate music and will introduce a variety of dance styles such as jazz\, hip hop and modern.\n\nStudents will learn to participate fully in a typical dance class structure starting each class with a warm up \, followed by corner work.  Corner work will focus on fundamental gross motor skills such as gallop\, skip\, hop\, jump and balance. The main body of the class will be spent teaching fun filled routines. Partner and group work will be highly encouraged so as to add to the social aspect of the class.\n\n\n\n\n\n\n\n\n\n\n\n\n\nDance will be weekly – check mid terms\, holidays etc.\n
URL:http://downsyndromecork.ie/event/dance-fun-centre-stage-school-mallow-2017-09-30/
END:VEVENT
BEGIN:VEVENT
DTSTART;TZID=UTC+0:20171007T130000
DTEND;TZID=UTC+0:20180630T140000
DTSTAMP:20171024T024140
CREATED:20171013T210558Z
LAST-MODIFIED:20171013T210558Z
UID:1473-1507381200-1530367200@downsyndromecork.ie
SUMMARY:Aileen's Dance Class
DESCRIPTION:Aileen’s dance explores movement and music designed especially for teens in Down Syndrome Cork. \n  \n
URL:http://downsyndromecork.ie/event/aileens-dance-class-4/
LOCATION:Unit 6 North Point Business Park\, Old Mallow Road\,\, Cork
END:VEVENT
BEGIN:VEVENT
DTSTART;TZID=UTC+0:20171007T133000
DTEND;TZID=UTC+0:20171007T143000
DTSTAMP:20171024T024140
CREATED:20171013T120039Z
LAST-MODIFIED:20171013T120039Z
UID:1353-1507383000-1507386600@downsyndromecork.ie
SUMMARY:Dance for Fun\, Centre Stage School\, Mallow
DESCRIPTION:\n\n‘Dance for Fun’ programme is to instil a love of dance and movement in children and young adults with Down Syndrom. Students will work on physical fitness\, rhythm\, flexibility and develop skills such as spacial awareness and general co-ordination. Each class will be set to energetic and age appropriate music and will introduce a variety of dance styles such as jazz\, hip hop and modern.\n\nStudents will learn to participate fully in a typical dance class structure starting each class with a warm up \, followed by corner work.  Corner work will focus on fundamental gross motor skills such as gallop\, skip\, hop\, jump and balance. The main body of the class will be spent teaching fun filled routines. Partner and group work will be highly encouraged so as to add to the social aspect of the class.\n\n\n\n\n\n\n\n\n\n\n\n\n\nDance will be weekly – check mid terms\, holidays etc.\n
URL:http://downsyndromecork.ie/event/dance-fun-centre-stage-school-mallow-2017-10-07/
END:VEVENT
BEGIN:VEVENT
DTSTART;TZID=UTC+0:20171014T133000
DTEND;TZID=UTC+0:20171014T143000
DTSTAMP:20171024T024140
CREATED:20171013T120039Z
LAST-MODIFIED:20171013T120039Z
UID:1354-1507987800-1507991400@downsyndromecork.ie
SUMMARY:Dance for Fun\, Centre Stage School\, Mallow
DESCRIPTION:\n\n‘Dance for Fun’ programme is to instil a love of dance and movement in children and young adults with Down Syndrom. Students will work on physical fitness\, rhythm\, flexibility and develop skills such as spacial awareness and general co-ordination. Each class will be set to energetic and age appropriate music and will introduce a variety of dance styles such as jazz\, hip hop and modern.\n\nStudents will learn to participate fully in a typical dance class structure starting each class with a warm up \, followed by corner work.  Corner work will focus on fundamental gross motor skills such as gallop\, skip\, hop\, jump and balance. The main body of the class will be spent teaching fun filled routines. Partner and group work will be highly encouraged so as to add to the social aspect of the class.\n\n\n\n\n\n\n\n\n\n\n\n\n\nDance will be weekly – check mid terms\, holidays etc.\n
URL:http://downsyndromecork.ie/event/dance-fun-centre-stage-school-mallow-2017-10-14/
END:VEVENT
BEGIN:VEVENT
DTSTART;TZID=UTC+0:20171021T133000
DTEND;TZID=UTC+0:20171021T143000
DTSTAMP:20171024T024140
CREATED:20171013T120039Z
LAST-MODIFIED:20171013T120039Z
UID:1355-1508592600-1508596200@downsyndromecork.ie
SUMMARY:Dance for Fun\, Centre Stage School\, Mallow
DESCRIPTION:\n\n‘Dance for Fun’ programme is to instil a love of dance and movement in children and young adults with Down Syndrom. Students will work on physical fitness\, rhythm\, flexibility and develop skills such as spacial awareness and general co-ordination. Each class will be set to energetic and age appropriate music and will introduce a variety of dance styles such as jazz\, hip hop and modern.\n\nStudents will learn to participate fully in a typical dance class structure starting each class with a warm up \, followed by corner work.  Corner work will focus on fundamental gross motor skills such as gallop\, skip\, hop\, jump and balance. The main body of the class will be spent teaching fun filled routines. Partner and group work will be highly encouraged so as to add to the social aspect of the class.\n\n\n\n\n\n\n\n\n\n\n\n\n\nDance will be weekly – check mid terms\, holidays etc.\n
URL:http://downsyndromecork.ie/event/dance-fun-centre-stage-school-mallow-2017-10-21/
END:VEVENT
BEGIN:VEVENT
DTSTART;TZID=UTC+0:20171028T133000
DTEND;TZID=UTC+0:20171028T143000
DTSTAMP:20171024T024140
CREATED:20171013T120039Z
LAST-MODIFIED:20171013T120039Z
UID:1356-1509197400-1509201000@downsyndromecork.ie
SUMMARY:Dance for Fun\, Centre Stage School\, Mallow
DESCRIPTION:\n\n‘Dance for Fun’ programme is to instil a love of dance and movement in children and young adults with Down Syndrom. Students will work on physical fitness\, rhythm\, flexibility and develop skills such as spacial awareness and general co-ordination. Each class will be set to energetic and age appropriate music and will introduce a variety of dance styles such as jazz\, hip hop and modern.\n\nStudents will learn to participate fully in a typical dance class structure starting each class with a warm up \, followed by corner work.  Corner work will focus on fundamental gross motor skills such as gallop\, skip\, hop\, jump and balance. The main body of the class will be spent teaching fun filled routines. Partner and group work will be highly encouraged so as to add to the social aspect of the class.\n\n\n\n\n\n\n\n\n\n\n\n\n\nDance will be weekly – check mid terms\, holidays etc.\n
URL:http://downsyndromecork.ie/event/dance-fun-centre-stage-school-mallow-2017-10-28/
END:VEVENT
BEGIN:VEVENT
DTSTART;TZID=UTC+0:20171103T100000
DTEND;TZID=UTC+0:20171105T170000
DTSTAMP:20171024T024140
CREATED:20171013T085810Z
LAST-MODIFIED:20171013T085810Z
UID:1329-1509703200-1509901200@downsyndromecork.ie
SUMMARY:Dream Dress Pop Up Boutique
DESCRIPTION:The Charity Committee of Marks & Spencer\, Patrick Street\, Cork are hosting a ‘Dream Dress Pop Up Boutique’ in Merchants Quay\, Cork. \nDonations required of children’s wear and ladies wear\, new and nearly new\, good quality clothing. \nDrop off points are: \nM&S\, Patrick Street \nM&S Douglas \nBluefig Boutique\, 3 Main Street\, Ballincollig \nDSCork Offices\, Unit 7\, Kilnap Business Park\, Old Mallow Road \nDSCork Bookshop \n \n
URL:http://downsyndromecork.ie/event/dream-dress-pop-up-boutique/
LOCATION:Patrick Street\, Cork\, Ireland
CATEGORIES:M&S Charity Committee
END:VEVENT
BEGIN:VEVENT
DTSTART;TZID=UTC+0:20171103T193000
DTEND;TZID=UTC+0:20171103T193000
DTSTAMP:20171024T024140
CREATED:20171013T092547Z
LAST-MODIFIED:20171013T092547Z
UID:1337-1509737400-1509737400@downsyndromecork.ie
SUMMARY:New Parents Conference
DESCRIPTION:Parents of Children under 2 are invited to participate in a New Parents Conference\, hosted by May Gannon\, Counsellor. \nResidential is recommended to give parents time to have some quite time to explore feelings and the opportunity to meet other parents. \nFull details and booking forms are available from DSCork on 021 4300 444. \nHotel bookings should be made directly with the hotel. \n \n  \n  \n  \n  \n  \n  \n  \n  \n  \n
URL:http://downsyndromecork.ie/event/new-parents-conference/
LOCATION:Military Hill\, Cork
CATEGORIES:Supported events
END:VEVENT
BEGIN:VEVENT
DTSTART;TZID=UTC+0:20171104T133000
DTEND;TZID=UTC+0:20171104T143000
DTSTAMP:20171024T024140
CREATED:20171013T120039Z
LAST-MODIFIED:20171013T120039Z
UID:1357-1509802200-1509805800@downsyndromecork.ie
SUMMARY:Dance for Fun\, Centre Stage School\, Mallow
DESCRIPTION:\n\n‘Dance for Fun’ programme is to instil a love of dance and movement in children and young adults with Down Syndrom. Students will work on physical fitness\, rhythm\, flexibility and develop skills such as spacial awareness and general co-ordination. Each class will be set to energetic and age appropriate music and will introduce a variety of dance styles such as jazz\, hip hop and modern.\n\nStudents will learn to participate fully in a typical dance class structure starting each class with a warm up \, followed by corner work.  Corner work will focus on fundamental gross motor skills such as gallop\, skip\, hop\, jump and balance. The main body of the class will be spent teaching fun filled routines. Partner and group work will be highly encouraged so as to add to the social aspect of the class.\n\n\n\n\n\n\n\n\n\n\n\n\n\nDance will be weekly – check mid terms\, holidays etc.\n
URL:http://downsyndromecork.ie/event/dance-fun-centre-stage-school-mallow-2017-11-04/
END:VEVENT
END:VCALENDAR